BEGIN:VCALENDAR
VERSION:2.0
PRODID:-//Tukios.com/
BEGIN:VEVENT
UID:b9a46acd-ea0e-4e6f-96fe-07ea7a886988@www.riemannfamily.com
DTSTAMP:20260422T000836Z
DTSTART:20260427
SUMMARY:Burial
DESCRIPTION:
URL:https://www.riemannfamily.com/obituaries/patricia-anne-bond
LOCATION: 8910 Carl Legett Rd  Gulfport MS 39503
GEO:30.4102706;-89.0288168
END:VEVENT
END:VCALENDAR