BEGIN:VCALENDAR
VERSION:2.0
PRODID:-//Tukios.com/
BEGIN:VEVENT
UID:5b4ede40-0cc8-4b06-add0-69226ea138e2@www.riemannfamily.com
DTSTAMP:20260422T000713Z
DTSTART:20260427T173000Z
DTEND:20260427T183000Z
SUMMARY:Reception / Luncheon
DESCRIPTION:
URL:https://www.riemannfamily.com/obituaries/patricia-anne-bond
LOCATION: 720 E Beach Blvd  Long Beach MS 39560
GEO:30.3326126;-89.1836546
END:VEVENT
END:VCALENDAR