BEGIN:VCALENDAR
VERSION:2.0
PRODID:-//Tukios.com/
BEGIN:VEVENT
UID:d4096148-fef0-4103-88e2-1bf1cb14c4b9@www.riemannfamily.com
DTSTAMP:20260422T000555Z
DTSTART:20260427T163000Z
DTEND:20260427T173000Z
SUMMARY:Mass
DESCRIPTION:
URL:https://www.riemannfamily.com/obituaries/patricia-anne-bond
LOCATION: 720 E Beach Blvd  Long Beach MS 39560
GEO:30.3326126;-89.1836546
END:VEVENT
END:VCALENDAR