BEGIN:VCALENDAR
VERSION:2.0
PRODID:-//Tukios.com/
BEGIN:VEVENT
UID:91d27524-764c-49a4-9af4-31d5ad38e5d7@www.riemannfamily.com
DTSTAMP:20260422T001005Z
DTSTART:20260427T153000Z
DTEND:20260427T161500Z
SUMMARY:Visitation
DESCRIPTION:
URL:https://www.riemannfamily.com/obituaries/patricia-anne-bond
LOCATION: 720 E Beach Blvd  Long Beach MS 39560
GEO:30.3326126;-89.1836546
END:VEVENT
END:VCALENDAR