BEGIN:VCALENDAR
VERSION:2.0
PRODID:-//Tukios.com/
BEGIN:VEVENT
UID:3185b3bd-0fa9-4b3d-afd3-fd9b9ffedf2c@www.riemannfamily.com
DTSTAMP:20260424T170538Z
DTSTART:20260502T190000Z
DTEND:20260502T200000Z
SUMMARY:Funeral Service
DESCRIPTION:
URL:https://www.riemannfamily.com/obituaries/myrna-burney
LOCATION:Diamondhead Community Church 5301 Diamondhead Cir  Diamondhead 
	MS 39525
GEO:30.3806823;-89.3800647
END:VEVENT
END:VCALENDAR