BEGIN:VCALENDAR
VERSION:2.0
PRODID:-//Tukios.com/
BEGIN:VEVENT
UID:7dea8dc2-9e1c-4748-b2c7-482f0fa2515e@www.riemannfamily.com
DTSTAMP:20260421T171113Z
DTSTART:20260425T153000Z
DTEND:20260425T163000Z
SUMMARY:Funeral Service
DESCRIPTION:
URL:https://www.riemannfamily.com/obituaries/laurie-blackmarr-miller
LOCATION: 11280 Three Rivers Rd  Gulfport MS 39503
GEO:30.4480297;-89.0752126
END:VEVENT
END:VCALENDAR