BEGIN:VCALENDAR
VERSION:2.0
PRODID:-//Tukios.com/
BEGIN:VEVENT
UID:dbf1734f-6871-4fe6-a719-38cdc9222f7d@www.riemannfamily.com
DTSTAMP:20260421T170923Z
DTSTART:20260425T140000Z
DTEND:20260425T153000Z
SUMMARY:Visitation
DESCRIPTION:
URL:https://www.riemannfamily.com/obituaries/laurie-blackmarr-miller
LOCATION: 11280 Three Rivers Rd  Gulfport MS 39503
GEO:30.4480297;-89.0752126
END:VEVENT
END:VCALENDAR