BEGIN:VCALENDAR
VERSION:2.0
PRODID:-//Tukios.com/
BEGIN:VEVENT
UID:3787b697-04ea-40fe-9c99-4aefb0730c77@www.riemannfamily.com
DTSTAMP:20260419T211935Z
DTSTART:20260423T230000Z
DTEND:20260424T000000Z
SUMMARY:Celebration of Life
DESCRIPTION:
URL:https://www.riemannfamily.com/obituaries/jeanine-allen
LOCATION: 13872 Lemoyne Blvd  Biloxi MS 39532
GEO:30.4451224;-88.841076
END:VEVENT
END:VCALENDAR