BEGIN:VCALENDAR
VERSION:2.0
PRODID:-//Tukios.com/
BEGIN:VEVENT
UID:5277b4d3-8d0d-445d-9326-3a79761e3934@www.riemannfamily.com
DTSTAMP:20260419T211706Z
DTSTART:20260423T210000Z
DTEND:20260423T230000Z
SUMMARY:Visitation
DESCRIPTION:
URL:https://www.riemannfamily.com/obituaries/jeanine-allen
LOCATION: 13872 Lemoyne Blvd  Biloxi MS 39532
GEO:30.4451224;-88.841076
END:VEVENT
END:VCALENDAR