BEGIN:VCALENDAR
VERSION:2.0
PRODID:-//Tukios.com/
BEGIN:VEVENT
UID:83cab293-1a5b-439c-b026-af0cd3a5ce65@www.riemannfamily.com
DTSTAMP:20260421T084234Z
DTSTART:20260220
SUMMARY:Burial
DESCRIPTION:
URL:https://www.riemannfamily.com/obituaries/henry-desandre
LOCATION:Abraham Lincoln Veterans Memorial Cemetery 20953 West Hoff Road  
	Elwood IL 60421
GEO:41.3920918;-88.1304399
END:VEVENT
END:VCALENDAR