BEGIN:VCALENDAR
VERSION:2.0
PRODID:-//Tukios.com/
BEGIN:VEVENT
UID:18710c60-d191-4da4-a90a-06726a7dbc78@www.riemannfamily.com
DTSTAMP:20260421T082724Z
DTSTART:20260219T220000Z
DTEND:20260220T010000Z
SUMMARY:Visitation
DESCRIPTION:
URL:https://www.riemannfamily.com/obituaries/henry-desandre
LOCATION:Fred C. Dames Funeral Home 3200 Black Road  Joliet IL 60431
GEO:41.5359269;-88.1612697
END:VEVENT
END:VCALENDAR