BEGIN:VCALENDAR
VERSION:2.0
PRODID:-//Tukios.com/
BEGIN:VEVENT
UID:51e9f4ab-b690-4072-82cf-76454e6bebd7@www.riemannfamily.com
DTSTAMP:20260421T082910Z
DTSTART:20260220T150000Z
DTEND:20260220T170000Z
SUMMARY:Visitation
DESCRIPTION:
URL:https://www.riemannfamily.com/obituaries/dorothy-ulrich
LOCATION: 141 US-90  Waveland MS 39576
GEO:30.3081429;-89.371487
END:VEVENT
END:VCALENDAR