BEGIN:VCALENDAR
VERSION:2.0
PRODID:-//Tukios.com/
BEGIN:VEVENT
UID:d14f8bd8-e2ba-40a0-ae93-c92f192bff78@www.riemannfamily.com
DTSTAMP:20260421T082547Z
DTSTART:20260220T183000Z
DTEND:20260220T184500Z
SUMMARY:Interment
DESCRIPTION:
URL:https://www.riemannfamily.com/obituaries/dorothy-ulrich
LOCATION: 400 Veterans Ave  Biloxi MS 39531
GEO:30.4148908;-88.9451888
END:VEVENT
END:VCALENDAR