BEGIN:VCALENDAR
VERSION:2.0
PRODID:-//Tukios.com/
BEGIN:VEVENT
UID:2dfc0c38-86a5-4815-9beb-e35eb32cc471@www.riemannfamily.com
DTSTAMP:20260421T230635Z
DTSTART:20260427T193000Z
DTEND:20260427T194500Z
SUMMARY:Burial
DESCRIPTION:
URL:https://www.riemannfamily.com/obituaries/charles-brann-jr
LOCATION: 400 Veterans Ave  Biloxi MS 39531
GEO:30.4148908;-88.9451888
END:VEVENT
END:VCALENDAR