BEGIN:VCALENDAR
VERSION:2.0
PRODID:-//Tukios.com/
BEGIN:VEVENT
UID:365fe635-44d3-43aa-b4e7-d5ce5847da7c@www.riemannfamily.com
DTSTAMP:20260421T231132Z
DTSTART:20260427T170000Z
DTEND:20260427T180000Z
SUMMARY:Funeral Service
DESCRIPTION:
URL:https://www.riemannfamily.com/obituaries/charles-brann-jr
LOCATION: 5303 Diamondhead Cir  Diamondhead MS 39525
GEO:30.3803178;-89.3791764
END:VEVENT
END:VCALENDAR