BEGIN:VCALENDAR
VERSION:2.0
PRODID:-//Tukios.com/
BEGIN:VEVENT
UID:92f5ab2b-c759-4732-85d9-56c356008a61@www.riemannfamily.com
DTSTAMP:20260421T230819Z
DTSTART:20260427T160000Z
DTEND:20260427T170000Z
SUMMARY:Visitation
DESCRIPTION:
URL:https://www.riemannfamily.com/obituaries/charles-brann-jr
LOCATION: 5303 Diamondhead Cir  Diamondhead MS 39525
GEO:30.3803178;-89.3791764
END:VEVENT
END:VCALENDAR