BEGIN:VCALENDAR
VERSION:2.0
PRODID:-//Tukios.com/
BEGIN:VEVENT
UID:fcef9245-08d7-4e21-96b9-03ffba1045bf@www.riemannfamily.com
DTSTAMP:20260420T215304Z
DTSTART:20260423T150000Z
DTEND:20260423T160000Z
SUMMARY:Graveside Service
DESCRIPTION:
URL:https://www.riemannfamily.com/obituaries/ann-sizemore
LOCATION: 8910 Carl Legett Rd  Gulfport MS 39503
GEO:30.4102706;-89.0288168
END:VEVENT
END:VCALENDAR